BEGIN:VCALENDAR
VERSION:2.0
PRODID:-//Frankfurter PresseClub e.V. - ECPv6.15.20//NONSGML v1.0//EN
CALSCALE:GREGORIAN
METHOD:PUBLISH
X-WR-CALNAME:Frankfurter PresseClub e.V.
X-ORIGINAL-URL:https://www.frankfurterpresseclub.de
X-WR-CALDESC:Veranstaltungen für Frankfurter PresseClub e.V.
REFRESH-INTERVAL;VALUE=DURATION:PT1H
X-Robots-Tag:noindex
X-PUBLISHED-TTL:PT1H
BEGIN:VTIMEZONE
TZID:Europe/Berlin
BEGIN:DAYLIGHT
TZOFFSETFROM:+0100
TZOFFSETTO:+0200
TZNAME:CEST
DTSTART:20220327T010000
END:DAYLIGHT
BEGIN:STANDARD
TZOFFSETFROM:+0200
TZOFFSETTO:+0100
TZNAME:CET
DTSTART:20221030T010000
END:STANDARD
BEGIN:DAYLIGHT
TZOFFSETFROM:+0100
TZOFFSETTO:+0200
TZNAME:CEST
DTSTART:20230326T010000
END:DAYLIGHT
BEGIN:STANDARD
TZOFFSETFROM:+0200
TZOFFSETTO:+0100
TZNAME:CET
DTSTART:20231029T010000
END:STANDARD
BEGIN:DAYLIGHT
TZOFFSETFROM:+0100
TZOFFSETTO:+0200
TZNAME:CEST
DTSTART:20240331T010000
END:DAYLIGHT
BEGIN:STANDARD
TZOFFSETFROM:+0200
TZOFFSETTO:+0100
TZNAME:CET
DTSTART:20241027T010000
END:STANDARD
END:VTIMEZONE
BEGIN:VEVENT
DTSTART;TZID=Europe/Berlin:20230808T180000
DTEND;TZID=Europe/Berlin:20230808T200000
DTSTAMP:20260424T144407
CREATED:20230728T080500Z
LAST-MODIFIED:20230809T121155Z
UID:10000130-1691517600-1691524800@www.frankfurterpresseclub.de
SUMMARY:FPC Hausbesuch: Ein neues Zuhause der F.A.Z. im Europaviertel – Führung durch den Neubau / Gespräch mit Carsten Knop
DESCRIPTION:Foto © F.A.Z. Foto / Lucas Bäuml \n\n\n\n+++ Exklusiv für Mitglieder +++\n\n\n\n08. AUGUST 2023 | 18 Uhr | F.A.Z. TOWER\, PARISER STR. 1\, 60486 FRANKFURT AM MAIN \n\n\n\n\n\nIm Januar haben Verlag und Redaktion der F.A.Z. ihre Gebäude in der Hellerhofstraße im Gallusviertel verlassen und sind ungefähr einen Kilometer weiter in ein modernes Bürohochaus das Europaviertel gezogen. Ausschlaggebende Gründe waren eine mangelnde Effizienz des Redaktionsgebäudes hinsichtlich Raumaufteilung und Energie\, sowie grundsätzliche wirtschaftliche Überlegungen. Das neue Gebäude hat der Verlag nur angemietet\, aber es wurde nach seinen Wünschen gebaut und mit modernster Technik ausgestattet. Natürlich bringt ein solcher Umzug auch andere Abläufe und Organisationsstrukturen mit sich. Die Mitglieder des FPC haben exklusiv die Möglichkeit\, einen Blick hinter die Kulissen zu werfen und den Neubau zu besichtigen. Anschließend gibt es ein Gespräch mit dem F.A.Z.-Herausgeber und Vizepräsident des FPC\, Carsten Knop\, über das Arbeiten im Tower\, die Digitalstrategie und die aktuellen Herausforderungen der Branche. \n\n\n\nCarsten Knop wurde 1969 in Dortmund geboren. Ein Praktikum in der Redaktion der „Westfälischen Rundschau“ führte noch vor dem Abitur zur freien Mitarbeit in Lokalredaktionen dieser Zeitung. Studium der Betriebswirtschaftslehre an der Universität Münster. Im Jahr 1993 folgte das Volontariat im Hause der Frankfurter Allgemeinen Zeitung. Nach einer Zwischenstation bei der Börsen-Zeitung fing er 1996 im Düsseldorfer Büro der F.A.Z. an. Danach war er Wirtschaftskorrespondent zunächst in New York und dann in San Francisco. Seit 2003 kehrte er nach Frankfurt zurück\, leitete viele Jahre Leiter die Unternehmensberichterstattung und war später auch für Wirtschaftsnachrichten zuständig. Von Anfang 2018 bis März 2020 Chefredakteur für die digitalen Produkte. Seit April 2020 Herausgeber. \n\n\n\nBitte beachten: Die Veranstaltung ist exklusiv für Mitglieder des Frankfurter Presseclubs. Eine Anmeldung ist erforderlich. Bitte melden Sie sich bis spätestens 07.08. zu der Veranstaltung an. \n\n\n\nNoch kein Mitglied? Dann ist jetzt die Gelegenheit Teil unseres Netzwerks zu werden. Mitgliedsbeitrag nur 120€\, Studierende / Volontär*innen 30€ pro Jahr. Hier geht es direkt zum Antrag. \n\n\n\n\n\nCarsten KnopFoto © Barbara Walzer\n\n\n\n\n\nAnmeldung
URL:https://www.frankfurterpresseclub.de/veranstaltung/fpc-hausbesuch-ein-neues-zuhause-der-f-a-z-im-europaviertel-fuehrung-durch-den-neubau-gespraech-carsten-knop/
LOCATION:Frankfurter Allgemeine Zeitung\, Pariser Str. 1\, Frankfurt am Main\, Hessen\, 60486\, Deutschland
CATEGORIES:FPC Hausbesuch
ATTACH;FMTTYPE=image/jpeg:https://www.frankfurterpresseclub.de/wp-content/uploads/2023/07/eventbrite-3.jpg
ORGANIZER;CN="Frankfurter Presseclub e.V":MAILTO:info@frankfurterpresseclub.de
END:VEVENT
END:VCALENDAR