BEGIN:VCALENDAR
VERSION:2.0
PRODID:-//Frankfurter PresseClub e.V. - ECPv6.15.20//NONSGML v1.0//EN
CALSCALE:GREGORIAN
METHOD:PUBLISH
X-WR-CALNAME:Frankfurter PresseClub e.V.
X-ORIGINAL-URL:https://www.frankfurterpresseclub.de
X-WR-CALDESC:Veranstaltungen für Frankfurter PresseClub e.V.
REFRESH-INTERVAL;VALUE=DURATION:PT1H
X-Robots-Tag:noindex
X-PUBLISHED-TTL:PT1H
BEGIN:VTIMEZONE
TZID:Europe/Berlin
BEGIN:DAYLIGHT
TZOFFSETFROM:+0100
TZOFFSETTO:+0200
TZNAME:CEST
DTSTART:20240331T010000
END:DAYLIGHT
BEGIN:STANDARD
TZOFFSETFROM:+0200
TZOFFSETTO:+0100
TZNAME:CET
DTSTART:20241027T010000
END:STANDARD
BEGIN:DAYLIGHT
TZOFFSETFROM:+0100
TZOFFSETTO:+0200
TZNAME:CEST
DTSTART:20250330T010000
END:DAYLIGHT
BEGIN:STANDARD
TZOFFSETFROM:+0200
TZOFFSETTO:+0100
TZNAME:CET
DTSTART:20251026T010000
END:STANDARD
BEGIN:DAYLIGHT
TZOFFSETFROM:+0100
TZOFFSETTO:+0200
TZNAME:CEST
DTSTART:20260329T010000
END:DAYLIGHT
BEGIN:STANDARD
TZOFFSETFROM:+0200
TZOFFSETTO:+0100
TZNAME:CET
DTSTART:20261025T010000
END:STANDARD
END:VTIMEZONE
BEGIN:VEVENT
DTSTART;TZID=Europe/Berlin:20250616T063000
DTEND;TZID=Europe/Berlin:20250616T180000
DTSTAMP:20260419T153608
CREATED:20250602T154437Z
LAST-MODIFIED:20250624T185035Z
UID:10000209-1750055400-1750096800@www.frankfurterpresseclub.de
SUMMARY:Fortbildungsreise zu ARTE (Association Relative à la Télévision Européenne) am Hauptsitz in Straßburg
DESCRIPTION:MONTAG | 16. JUNI 2025 | 6.30 Uhr bis 18.00 Uhr | 4 QUAI DU CHANOINE WINTERER\, 67000 STRASBOURG\, FRANCEUNSERE GASTGEBERINNEN● Elke Blocher (Kommunikationsbeauftragte Generalsekretariat)● Maria Flügel (Leiterin Presse\, Kommunikation & PR von ARTE GEIE)● Magali Kreuzer (Redaktionsleiterin ARTE Info)● Lena Morel (Koordinatorin des europäischen Info-Angebots)● Carolin Ollivier (stv. Chefredakteurin – ARTE Nachrichtenredaktion) \n\n\n\n\n\n+++ Exklusiv für Mitglieder +++ \n\n\n\nBesuch von ARTE (Association Relative à la Télévision Européenne) am Hauptsitz in Straßburg\, Vorstellung der Presse-Arbeit\, Überblick über die strategische Ausrichtung der europäischen Kulturplattform\, Rundgang durch den Sender\, Studio-Besichtigung und Besuch der Nachrichtenredaktion. \n\n\n\nKostenbeteiligung 75 Euro. Hin- und Rückfahrt mit einem modernen Reisebus. Verpflegung (Frühstücks-Lunchpaket und Mittagessen im ARTE-Restaurant) sind inklusive. \n\n\n\nAbfahrt 6.30 Uhr am FPC. Rückkehr zum FPC ca. 18 Uhr. \n\n\n\nDie Anzahl der Plätze ist begrenzt. \n\n\n\nWir laden Sie herzlich zu unserer nächsten eintägigen Fortbildungsreise ein – diesmal besuchen wir den europäischen Kultursender ARTE in Straßburg. \n\n\n\nVor Ort erhalten wir exklusive Einblicke in die Arbeit und Struktur des binationalen Senders: Nach einem Empfang im Atrium und der Begrüßung durch Maria Flügel\, Leiterin Presse\, Kommunikation & PR von ARTE GEIE\, erfahren wir mehr über die Presse- und Marketingarbeit sowie die Aufteilung zwischen ARTE Deutschland\, ARTE France und ARTE GEIE. Lena Morel\, Koordinatorin des europäischen Info-Angebots\, gibt uns einen Überblick über die strategische Ausrichtung der europäischen Kulturplattform. \n\n\n\nIm Anschluss an das gemeinsame Mittagessen im ARTE-Restaurant erwartet uns ein Rundgang durch den Sender\, inklusive Studio- und Senderegie-Besichtigung sowie ein Besuch der Nachrichtenredaktion. Dort berichten Carolin Ollivier (stv. Chefredakteurin) und Magali Kreuzer (Redaktionsleiterin ARTE Info) über das journalistische Arbeiten bei ARTE und das besondere Profil des Nachrichtenangebots. \n\n\n\nWir freuen uns auf Ihre Teilnahme an dieser spannenden Reise in die Medienwelt Europas! \n\n\n\n \n\n\n\nBitte beachten: Nach Ihrer Anmeldung erhalten Sie eine Zahlungsanweisung für die Kostenbeteiligung. Sobald Ihre Zahlung bei uns eingegangen ist\, erhalten Sie alle weiteren Details (Treffpunkt etc.) zur Reise. \n\n\n\n \n\n\n\nDie Veranstaltung ist exklusiv für unsere Mitglieder. Noch kein Mitglied? Dann ist jetzt die perfekte Gelegenheit\, Teil unseres großen Netzwerks zu werden. Hier geht es direkt zum Antrag. \n\n\n\n\n\nDie Außenfassade des neuen Sitzes von ARTEFoto © Frèdèric Maigrot\n\n\n\n\n\nAnmeldung
URL:https://www.frankfurterpresseclub.de/veranstaltung/fortbildungsreise-zu-arte-nach-strassburg/
LOCATION:ARTE Hauptsitz\, 4 Quai du Chanoine Winterer\, Strasbourg\, 67000\, France
CATEGORIES:Exklusiv für Mitglieder,Fortbildungsreise
ATTACH;FMTTYPE=image/jpeg:https://www.frankfurterpresseclub.de/wp-content/uploads/2025/06/eventbrite.jpg
ORGANIZER;CN="Frankfurter Presseclub e.V":MAILTO:info@frankfurterpresseclub.de
END:VEVENT
END:VCALENDAR