BEGIN:VCALENDAR
VERSION:2.0
PRODID:-//Frankfurter PresseClub e.V. - ECPv6.15.20//NONSGML v1.0//EN
CALSCALE:GREGORIAN
METHOD:PUBLISH
X-WR-CALNAME:Frankfurter PresseClub e.V.
X-ORIGINAL-URL:https://www.frankfurterpresseclub.de
X-WR-CALDESC:Veranstaltungen für Frankfurter PresseClub e.V.
REFRESH-INTERVAL;VALUE=DURATION:PT1H
X-Robots-Tag:noindex
X-PUBLISHED-TTL:PT1H
BEGIN:VTIMEZONE
TZID:Europe/Berlin
BEGIN:DAYLIGHT
TZOFFSETFROM:+0100
TZOFFSETTO:+0200
TZNAME:CEST
DTSTART:20250330T010000
END:DAYLIGHT
BEGIN:STANDARD
TZOFFSETFROM:+0200
TZOFFSETTO:+0100
TZNAME:CET
DTSTART:20251026T010000
END:STANDARD
BEGIN:DAYLIGHT
TZOFFSETFROM:+0100
TZOFFSETTO:+0200
TZNAME:CEST
DTSTART:20260329T010000
END:DAYLIGHT
BEGIN:STANDARD
TZOFFSETFROM:+0200
TZOFFSETTO:+0100
TZNAME:CET
DTSTART:20261025T010000
END:STANDARD
BEGIN:DAYLIGHT
TZOFFSETFROM:+0100
TZOFFSETTO:+0200
TZNAME:CEST
DTSTART:20270328T010000
END:DAYLIGHT
BEGIN:STANDARD
TZOFFSETFROM:+0200
TZOFFSETTO:+0100
TZNAME:CET
DTSTART:20271031T010000
END:STANDARD
END:VTIMEZONE
BEGIN:VEVENT
DTSTART;TZID=Europe/Berlin:20260316T193000
DTEND;TZID=Europe/Berlin:20260316T203000
DTSTAMP:20260419T153601
CREATED:20260309T092500Z
LAST-MODIFIED:20260323T124624Z
UID:10000235-1773689400-1773693000@www.frankfurterpresseclub.de
SUMMARY:Online-Clubabend: „Wem gehört die Meinungsfreiheit im Netz? – Digitale Öffentlichkeit zwischen Demokratie und Plattformmacht“
DESCRIPTION:Foto © unsplash.com/de/@holawalterlee \n\n\n\nMONTAG | 16. MÄRZ | 19.30 UHR | ONLINEZU GAST● Markus Beckedahl (Journalist und Gründer von netzpolitik.org)● Univ.-Prof. Mag. Dr. Matthias C. Kettemann\, LL.M. (Harvard) (Experte für Internetrecht und Plattformregulierung)MODERATION● Nina Mülhens (FPC-Vorstandsmitglied) \n\n\n\n\n\nWem gehört die Meinungsfreiheit im Netz? Und wie demokratisch sind digitale Öffentlichkeiten\, wenn globale Plattformen die Regeln setzen? \n\n\n\nSoziale Netzwerke sind heute zentrale Orte politischer Debatten\, journalistischer Arbeit und gesellschaftlicher Auseinandersetzung. Hier entstehen Bewegungen\, hier verbreiten sich Informationen und hier eskalieren Konflikte. Hate Speech\, gezielte Desinformation und digitale Radikalisierung prägen den öffentlichen Diskurs ebenso wie neue europäische Regulierungsansätze und die anhaltende Dominanz US-amerikanischer Plattformunternehmen. \n\n\n\nZwischen dem amerikanischen Verständnis nahezu schrankenloser Meinungsfreiheit und dem europäischen Ansatz\, demokratische Diskurse stärker zu regulieren und Betroffene besser zu schützen\, entsteht ein Spannungsfeld\, das grundlegende Fragen aufwirft: Wer definiert die Grenzen legitimer Rede – Staaten\, Gerichte oder private Plattformen? Welche Verantwortung tragen global agierende Unternehmen für demokratische Öffentlichkeiten? Schützt Regulierung die Demokratie oder verschiebt sie Macht lediglich neu? \n\n\n\nGleichzeitig steht auch der Journalismus in einer besonderen Verantwortung. Journalistinnen und Journalisten sind längst nicht mehr nur Beobachter digitaler Debatten\, sondern aktive Akteure in ihnen. Sie recherchieren in sozialen Netzwerken\, verstärken Themen durch Reichweite\, setzen Diskursrahmen und sind zunehmend selbst Zielscheibe koordinierter Hasskampagnen. \n\n\n\nWie berichten Medien über extremistische Inhalte\, ohne sie weiter zu normalisieren? Wie gelingt Einordnung\, ohne Empörungsspiralen zu befeuern? Welche Rolle spielt journalistische Sorgfalt in einer Plattformlogik\, die Zuspitzung belohnt? Und wie können Medienhäuser ihre Mitarbeitenden schützen? \n\n\n\nNach zwei intensiven Clubabenden zu Social Media und digitaler Öffentlichkeit wollen wir diese Fragen vertiefen und die internationale Dimension bewusst in den Mittelpunkt stellen – mit Blick auf Plattformmacht\, Regulierung und die Zukunft demokratischer Öffentlichkeit im digitalen Raum. \n\n\n\nWir freuen uns auf ein hochkarätig besetztes Panel und eine fundierte\, kontroverse und konstruktive Diskussion. \n\n\n\nBitte beachten: Für Mitglieder des FPC ist die Veranstaltung kostenlos. Für Nicht-Mitglieder erheben wir einen Unkostenbeitrag von 7 €. Bitte wählen Sie bei der Anmeldung das entsprechende Ticket. \n\n\n\nNoch kein Mitglied? Dann ist jetzt die Gelegenheit\, Teil unseres großen Netzwerks zu werden. Hier geht es direkt zum Antrag. \n\n\n\nAnmeldung\n\n\n\n\n\n\n\n\n\n\n\n\n\nNina MülhensFoto © Privat\n\n\n\nMarkus BeckedahlFoto © re:publica.com\n\n\n\nProf. Dr. Matthias C. KettemannFoto © Universität Innsbruck
URL:https://www.frankfurterpresseclub.de/veranstaltung/meinungsfreiheit-im-netz/
LOCATION:Frankfurter PresseClub e.V.\, Ulmenstraße 20\, Frankfurt am Main\, 60325\, Deutschland
CATEGORIES:Clubabend
ATTACH;FMTTYPE=image/jpeg:https://www.frankfurterpresseclub.de/wp-content/uploads/2026/03/eventbrite.jpg
END:VEVENT
END:VCALENDAR