BEGIN:VCALENDAR
VERSION:2.0
PRODID:-//Frankfurter PresseClub e.V. - ECPv6.15.20//NONSGML v1.0//EN
CALSCALE:GREGORIAN
METHOD:PUBLISH
X-WR-CALNAME:Frankfurter PresseClub e.V.
X-ORIGINAL-URL:https://www.frankfurterpresseclub.de
X-WR-CALDESC:Veranstaltungen für Frankfurter PresseClub e.V.
REFRESH-INTERVAL;VALUE=DURATION:PT1H
X-Robots-Tag:noindex
X-PUBLISHED-TTL:PT1H
BEGIN:VTIMEZONE
TZID:Europe/Berlin
BEGIN:DAYLIGHT
TZOFFSETFROM:+0100
TZOFFSETTO:+0200
TZNAME:CEST
DTSTART:20220327T010000
END:DAYLIGHT
BEGIN:STANDARD
TZOFFSETFROM:+0200
TZOFFSETTO:+0100
TZNAME:CET
DTSTART:20221030T010000
END:STANDARD
BEGIN:DAYLIGHT
TZOFFSETFROM:+0100
TZOFFSETTO:+0200
TZNAME:CEST
DTSTART:20230326T010000
END:DAYLIGHT
BEGIN:STANDARD
TZOFFSETFROM:+0200
TZOFFSETTO:+0100
TZNAME:CET
DTSTART:20231029T010000
END:STANDARD
BEGIN:DAYLIGHT
TZOFFSETFROM:+0100
TZOFFSETTO:+0200
TZNAME:CEST
DTSTART:20240331T010000
END:DAYLIGHT
BEGIN:STANDARD
TZOFFSETFROM:+0200
TZOFFSETTO:+0100
TZNAME:CET
DTSTART:20241027T010000
END:STANDARD
END:VTIMEZONE
BEGIN:VEVENT
DTSTART;TZID=Europe/Berlin:20231101T193000
DTEND;TZID=Europe/Berlin:20231101T210000
DTSTAMP:20260421T060814
CREATED:20231011T081000Z
LAST-MODIFIED:20231106T164028Z
UID:10000140-1698867000-1698872400@www.frankfurterpresseclub.de
SUMMARY:Pubquiz Künstliche Intelligenz mit Jan Eggers – Spielerisch lernen mit dem KI-Koordinator des HR
DESCRIPTION:01. NOVEMBER | 19.30 UHR | FPC\, ULMENSTR. 20\, 60325 FRANKFURTZU GAST● Jan Eggers (KI-Koordinator beim Hessischen Rundfunk)MODERATION● Karsten Frerichs (FPC Vorstandsmitglied) \n\n\n\n\n\nKünstliche Intelligenz\, Dienste wie ChatGPT oder Midjourney werfen viele Fragen auf – an diesem Abend versuchen wir einige davon\, spielerisch zu beantworten: im KI-Pub-Quiz\, bei dem die Besucher in Teams gegeneinander um die Wette rätseln und probieren. Gelegenheit für KI-Neugierige\, auf andere Weise mehr über die Technologie zu erfahren\, Praktisches wie Theoretisches. Und für KI-Versteher Gelegenheit\, das eigene Wissen und die eigenen Fähigkeiten zu prüfen. Moderation: Karsten Frerichs. \n\n\n\nJan Eggers\, Jahrgang 1968\, ist Redakteur beim Hessischen Rundfunk und hat dort unter anderem gearbeitet als Inforadio-Mitbegründer und -Redaktionsleiter\, Social-Media-Manager\, Digitalrecherche-Trainer und Datenjournalist. Als Datenjournalist setzt er KI seit einiger Zeit auch praktisch ein. Seit Juli hat er die Rolle eines KI-Koordinators im hr. \n\n\n\nFür Mitglieder des FPC ist die Teilnahme kostenlos. Für Nichtmitglieder erheben wir einen Unkostenbeitrag von 9€. \n\n\n\nNoch kein Mitglied? Dann ist jetzt die Gelegenheit Teil unseres Netzwerks zu werden. Für das laufende Jahr beträgt der Mitgliedsbeitrag nur 60€\, Studierende / Volontär*innen 30€. Hier geht es direkt zum Antrag. \n\n\n\n\n\nFoto © Jan Eggers / Bildhintergrund generiert mit der KI StableDiffusion 1.5\n\n\n\n\n\nAnmeldung
URL:https://www.frankfurterpresseclub.de/veranstaltung/spieleabend-ki-pubquiz-mit-ki-koordinator-jan-eggers/
LOCATION:Frankfurter PresseClub e.V.\, Ulmenstraße 20\, Frankfurt am Main\, 60325\, Deutschland
CATEGORIES:Clubabend
ATTACH;FMTTYPE=image/jpeg:https://www.frankfurterpresseclub.de/wp-content/uploads/2023/10/eventbrite-1.jpg
ORGANIZER;CN="Frankfurter Presseclub e.V":MAILTO:info@frankfurterpresseclub.de
END:VEVENT
BEGIN:VEVENT
DTSTART;TZID=Europe/Berlin:20231107T193000
DTEND;TZID=Europe/Berlin:20231107T210000
DTSTAMP:20260421T060814
CREATED:20231011T080500Z
LAST-MODIFIED:20231109T154129Z
UID:10000141-1699385400-1699390800@www.frankfurterpresseclub.de
SUMMARY:100. Geburtstag von Rudolf Augstein – Gisela Stelly Augstein im Gespräch
DESCRIPTION:+++ BITTE BEACHTEN +++ Aufgrund eines Unfalls unseres Online-Redakteurs kann die Veranstaltung leider nicht per Livestream übertragen werden. Wir bedauern dies sehr und bitten dafür um Ihr Verständnis. \n\n\n\n07. NOVEMBER | 19.30 UHR | IM FPC\, ULMENSTR. 20\, 60325 FRANKFURTZU GAST● Gisela Stelly Augstein (Journalistin\, Filmemacherin und Autorin)MODERATION● Annette Milz (Journalistin\, freie Autorin und Moderatorin) \n\n\n\n\n\nKurz nach dem 100. Geburtstag und just am 21. Todestag von Rudolf Augstein ist Gisela Stelly Augstein Gast im Frankfurter Presseclub. Die Journalistin\, Filmemacherin und Autorin war 20 Jahre mit dem Gründer und Herausgeber des Spiegel verheiratet und hält sich\, auch im Nachgang zu den jüngsten Veröffentlichungen über Rudolf Augstein\, ganz an dessen Credo: „Sagen\, was ist“. Ein spannender und informationsreicher Abend über eine Legende des deutschen Journalismus ist garantiert. \n\n\n\nGisela Stelly Augstein ist Autorin mehrerer Romane\, Journalistin und Filmemacherin. Sie studierte Soziologie und Psychologie an der FU Berlin und an der Goethe-Universität Frankfurt am Main. Ab 1967 schrieb sie für die Wochenzeitung Die Zeit\, zuerst als Praktikantin\, von 1970 bis Mitte der 1980er-Jahre als freie Mitarbeiterin. In den 1970er- und 1980er-Jahren schrieb sie Drehbücher und führte Regie bei Dokumentar- und Spielfilmen. 1993 erschien ihr erster Roman\, Tristan in New York\, dem seither mehrere folgten\, u.a. . Keitumer Gespräche und Goldmacher. Sie lebt in Hamburg und Berlin. \n\n\n\nBitte beachten: Für Mitglieder des FPC ist die Veranstaltung kostenlos. Für Nicht-Mitglieder erheben wir einen Unkostenbeitrag von 9€ (Präsenz) bzw. 7€ (online). Bitte wählen Sie bei der Anmeldung das entsprechende Ticket. \n\n\n\nSollten Sie online an der Veranstaltung teilnehmen\, bekommen Sie ein paar Tage vor der Veranstaltung den Link zum Livestream per E-Mail. \n\n\n\nNoch kein Mitglied? Dann ist jetzt die Gelegenheit Teil unseres Netzwerks zu werden. Für das laufende Jahr beträgt der Mitgliedsbeitrag nur 60€\, Studierende / Volontär*innen 30€. Hier geht es direkt zum Antrag. \n\n\n\n\n\nGisela Stelly AugsteinFoto © Birgit Klempt\n\n\n\n\n\nAnmeldung
URL:https://www.frankfurterpresseclub.de/veranstaltung/geburtstag-von-rudolf-augstein-gisela-stelly-augstein-im-gespraech/
LOCATION:Frankfurter PresseClub e.V.\, Ulmenstraße 20\, Frankfurt am Main\, 60325\, Deutschland
CATEGORIES:Clubabend
ATTACH;FMTTYPE=image/jpeg:https://www.frankfurterpresseclub.de/wp-content/uploads/2023/09/eventbrite-2.jpg
ORGANIZER;CN="Frankfurter Presseclub e.V":MAILTO:info@frankfurterpresseclub.de
END:VEVENT
BEGIN:VEVENT
DTSTART;TZID=Europe/Berlin:20231128T193000
DTEND;TZID=Europe/Berlin:20231128T210000
DTSTAMP:20260421T060814
CREATED:20231109T154037Z
LAST-MODIFIED:20231130T092315Z
UID:10000142-1701199800-1701205200@www.frankfurterpresseclub.de
SUMMARY:Internationale Zusammenarbeit in herausfordernden Zeiten – Thorsten Schäfer-Gümbel\, Vorstandssprecher der GIZ\, im Gespräch
DESCRIPTION:28. NOVEMBER | 19.30 UHR | FRANKFURTER PRESSECLUB\, ULMENSTR. 20\, 60325 FRANKFURTZU GAST● Thorsten Schäfer-Gümbel (Vorstandssprecher der GIZ)MODERATION● Michaela Schmehl (FPC Vorstandsmitglied) \n\n\n\n\n\nWenn Journalisten über ein gelungenes Entwicklungsprojekt in Afrika berichten wollen\, ist die Deutsche Gesellschaft für Internationale Zusammenarbeit (GIZ) GmbH eine der ersten Anlaufstellen. Ob Photovoltaik oder Technologie-Startups in Westafrika\, digitale Plattformen oder emissionsarme Kochherde in Kenia – die GIZ unterstützt und fördert im Auftrag der Bundesregierung Entwicklung in rund 120 Ländern weltweit. Eine Aufgabe\, die angesichts zunehmend fragiler Bedingungen – etwa durch Klimakrise oder Militärputsche – immer wichtiger wird. Die ehemalige GTZ berät Regierungen\, Firmen oder Institutionen und hilft bei der Finanzierung und der Umsetzung von Projekten und Kooperationen. Ihr Ziel ist dabei\, für die Menschen vor Ort Perspektiven zu schaffen. Vorstandssprecher und Arbeitsdirektor Thorsten Schäfer-Gümbel ist verantwortlich für die Arbeit der über 25.400 Mitarbeiterinnen und Mitarbeiter\, von denen fast 70 Prozent als nationale Mitarbeitende vor Ort aktiv sind. Unternehmenssitz der GIZ sind Eschborn und Bonn. \n\n\n\nWas bedeutet Entwicklungszusammenarbeit heute? Wie haben sich die Aufgaben der GIZ angesichts globaler Herausforderungen verändert? Wie wichtig sind Nachhaltigkeit\, Prävention und Friedensarbeit? Und welche Rolle spielt die GIZ in Krisengebieten? Diesen Fragen geht Moderatorin Michaela Schmehl im Gespräch mit Thorsten Schäfer-Gümbel nach. \n\n\n\nThorsten Schäfer-Gümbel\, geboren 1969 in Oberstdorf\, aufgewachsen in Gießen. Studienabschluss in Politikwissenschaft\, Öffentlichem Recht und Neuere Geschichte an der Justus-Liebig-Universität Gießen. Danach wissenschaftlicher Mitarbeiter am Lehrstuhl für Internationale Beziehungen der Politikwissenschaft sowie in der Stadtverwaltung Gießen. Schon seit der Schulzeit in der SPD aktiv\, war er ab 2003 Abgeordneter im Hessischen Landtag\, bis 2008 u.a. entwicklungspolitischer Sprecher der SPD-Fraktion. Von 2009 – 2019 Partei- und Fraktionsvorsitzender der SPD Hessen\, zudem stellvertretender SPD-Bundesvorsitzender. Seit Oktober 2019 Vorstandsmitglied der GIZ\, seit November 2022 Vorstandssprecher. \n\n\n\nBitte beachten: Für Mitglieder des FPC ist die Veranstaltung kostenlos. Für Nicht-Mitglieder erheben wir einen Unkostenbeitrag von 9€. Bitte wählen Sie bei der Anmeldung das entsprechende Ticket. \n\n\n\nNoch kein Mitglied? Dann ist jetzt die Gelegenheit Teil unseres Netzwerks zu werden. Für das laufende Jahr beträgt der Mitgliedsbeitrag nur 60€\, Studierende / Volontär*innen 30€. Hier geht es direkt zum Antrag. \n\n\n\n\n\nThorsten Schäfer-GümbelFotoquelle: GIZ\n\n\n\n\n\nAnmeldung
URL:https://www.frankfurterpresseclub.de/veranstaltung/internationale-zusammenarbeit-in-herausfordernden-zeiten-thorsten-schaefer-guembel-vorstandsprecher-der-giz-im-gespraech/
LOCATION:Frankfurter PresseClub e.V.\, Ulmenstraße 20\, Frankfurt am Main\, 60325\, Deutschland
CATEGORIES:Clubabend
ATTACH;FMTTYPE=image/jpeg:https://www.frankfurterpresseclub.de/wp-content/uploads/2023/11/eventbrite.jpg
ORGANIZER;CN="Frankfurter Presseclub e.V":MAILTO:info@frankfurterpresseclub.de
END:VEVENT
END:VCALENDAR