BEGIN:VCALENDAR
VERSION:2.0
PRODID:-//Frankfurter PresseClub e.V. - ECPv6.15.20//NONSGML v1.0//EN
CALSCALE:GREGORIAN
METHOD:PUBLISH
X-ORIGINAL-URL:https://www.frankfurterpresseclub.de
X-WR-CALDESC:Veranstaltungen für Frankfurter PresseClub e.V.
REFRESH-INTERVAL;VALUE=DURATION:PT1H
X-Robots-Tag:noindex
X-PUBLISHED-TTL:PT1H
BEGIN:VTIMEZONE
TZID:Europe/Berlin
BEGIN:DAYLIGHT
TZOFFSETFROM:+0100
TZOFFSETTO:+0200
TZNAME:CEST
DTSTART:20240331T010000
END:DAYLIGHT
BEGIN:STANDARD
TZOFFSETFROM:+0200
TZOFFSETTO:+0100
TZNAME:CET
DTSTART:20241027T010000
END:STANDARD
BEGIN:DAYLIGHT
TZOFFSETFROM:+0100
TZOFFSETTO:+0200
TZNAME:CEST
DTSTART:20250330T010000
END:DAYLIGHT
BEGIN:STANDARD
TZOFFSETFROM:+0200
TZOFFSETTO:+0100
TZNAME:CET
DTSTART:20251026T010000
END:STANDARD
BEGIN:DAYLIGHT
TZOFFSETFROM:+0100
TZOFFSETTO:+0200
TZNAME:CEST
DTSTART:20260329T010000
END:DAYLIGHT
BEGIN:STANDARD
TZOFFSETFROM:+0200
TZOFFSETTO:+0100
TZNAME:CET
DTSTART:20261025T010000
END:STANDARD
END:VTIMEZONE
BEGIN:VEVENT
DTSTART;TZID=Europe/Berlin:20250510T100000
DTEND;TZID=Europe/Berlin:20250510T143000
DTSTAMP:20260421T131515
CREATED:20250424T081000Z
LAST-MODIFIED:20250512T162832Z
UID:10000207-1746871200-1746887400@www.frankfurterpresseclub.de
SUMMARY:Prompten statt Texten – KI-Workshop für Journalisten mit Jan Eggers\, KI-Experte und hr-Redakteur
DESCRIPTION:10. MAI 2025 | 10 BIS 14.30 UHR | FRANKFURTER PRESSECLUB\, 60325 FRANKFURT AM MAIN \n\n\n\n\n\nTeilnahmegebühr: 29 Euro für Mitglieder\, 79 Euro für Nicht-Mitglieder \n\n\n\nKünstliche Intelligenz verändert die Medienwelt – höchste Zeit\, sich fit zu machen! Der Frankfurter PresseClub lädt euch herzlich ein zu einem kompakten und praxisnahen KI-Workshop mit Jan Eggers\, KI-Experte und Redakteur beim Hessischen Rundfunk. \n\n\n\nWas erwartet euch? \n\n\n\n\n– Hands-on-Übungen: Textarbeit\, Recherche\, Ideenfindung\n\n\n\n– Besser prompten: die Formel für bessere Ergebnisse\n\n\n\n– Recherche mit und trotz KI – inklusive praktischer Tools\n\n\n\n– Kritische Perspektiven: Was KI (noch) nicht kann\n\n\n\n– Austausch\, Diskussion\, Snacks und Kaffee natürlich auch\n\n\n\n\nOb ihr erste KI-Schritte geht oder eure Skills vertiefen wollt – dieser Workshop liefert euch Techniken und Denkansätze für den journalistischen Alltag. \n\n\n\nDie Plätze sind begrenzt – meldet euch jetzt an! \n\n\n\nJan Eggers\, Jahrgang 1968\, ist KI-Experte und Redakteur beim Hessischen Rundfunk und hat dort unter anderem als Inforadio-Mitbegründer und -Redaktionsleiter\, Social-Media-Manager\, Digitalrecherche-Trainer und Datenjournalist gearbeitet. Als KI-Trainer für zahlreiche deutsche Medien innerhalb und außerhalb der ARD vermittelt er praxisnahes Wissen über den Einsatz künstlicher Intelligenz im Journalismus und unterstützt Redaktionen dabei\, neue Technologien sinnvoll in ihre Arbeitsprozesse zu integrieren. \n\n\n\nBitte beachten: Einlass ist um 9.30 Uhr. Bitte bringt euren eigenen Laptop mit! Ihr müsst damit nur ins Netz und nichts installieren. Und: Da das Seminar von der Praxis lebt\, legt euch bitte ein Konto bei einem KI-Chatbot an – wenn ihr nicht ohnehin schon eins haben solltet: Wir empfehlen die europäische und sehr brauchbare KI unter chat.mistral.ai\, aber selbstverständlich nutzen wir auch ChatGPT – und können (fast) alle Fragen dazu beantworten. \n\n\n\nBitte beachten: Nach eurer Anmeldung erhaltet ihr eine Zahlungsanweisung für die Kostenbeteiligung. Sobald die Zahlung bei uns eingegangen ist\, erhaltet ihr alle weiteren Details zum Workshop. \n\n\n\nNoch kein Mitglied? Dann ist jetzt die perfekte Gelegenheit\, Teil unseres großen Netzwerks zu werden. Hier geht es direkt zum Antrag. \n\n\n\n\n\nJan EggersFoto © Jan Eggers\n\n\n\n\n\nAnmeldung
URL:https://www.frankfurterpresseclub.de/veranstaltung/prompten-statt-texten-ki-workshop-fuer-journalisten-mit-jan-eggers-ki-experte-und-hr-redakteur/
LOCATION:Frankfurter PresseClub e.V.\, Ulmenstraße 20\, Frankfurt am Main\, 60325\, Deutschland
CATEGORIES:Workshop
ATTACH;FMTTYPE=image/jpeg:https://www.frankfurterpresseclub.de/wp-content/uploads/2025/04/eventbrite-3.jpg
ORGANIZER;CN="Frankfurter Presseclub e.V":MAILTO:info@frankfurterpresseclub.de
END:VEVENT
BEGIN:VEVENT
DTSTART;TZID=Europe/Berlin:20250517T083000
DTEND;TZID=Europe/Berlin:20250517T153000
DTSTAMP:20260421T131515
CREATED:20250424T080500Z
LAST-MODIFIED:20250519T162358Z
UID:10000206-1747470600-1747495800@www.frankfurterpresseclub.de
SUMMARY:"100 Jahre Leica: Zeugin eines Jahrhunderts" – FPC Hausbesuch bei der Leica Camera AG in der Leica Welt
DESCRIPTION:Foto © Leica Camera AG \n\n\n\n17. MAI 2025 | 8.30 Uhr bis 15.30 Uhr | LEICA WELT\, AM LEITZ-PARK 6\, 35578 WETZLARUNSERE GASTGEBER● Johannes Winter (Global Director Corporate Communications der Leica Camera AG)● Oliver Claas (Pressesprecher Corporate Communications der Leica Camera AG) \n\n\n\n\n\n+++ Exklusiv für Mitglieder +++ \n\n\n\nFührung durch die Unternehmenszentrale von Leica und Besuch des Ernst Leitz Museums. \n\n\n\nAbfahrt um 8.30 Uhr am FPC (Ulmenstraße 20\, 60325 Frankfurt)\, Rückkehr um 15.30 Uhr. \n\n\n\nBegrüßung: Johannes Winter (Global Director Corporate Communications der Leica Camera AG) und Oliver Claas (Pressesprecher Corporate Communications der Leica Camera AG) \n\n\n\nDer Unternehmensstandort der Leica Camera AG befindet sich seit 2014 im Leitz-Park in Wetzlar. Die hessische Optikstadt ist Heimat der Leica Camera und Gründungsort der Ernst Leitz Werke\, dem Vorläufer der heutigen Leica Camera AG. Die moderne Firmenzentrale beherbergt Produktion\, Verwaltung\, Customer Care\, einen Classic Store für Raritäten\, Sammler- und Liebhaberstücke und eine öffentlich zugängliche Galerie. \n\n\n\nIm ersten Teil unseres Hausbesuchs erwartet uns nach der Begrüßung durch Johannes Winter (Global Director Corporate Communications der Leica Camera AG) und Oliver Claas (Pressesprecher Corporate Communications der Leica Camera AG) eine faszinierende Führung durch das Unternehmen\, wo wir hautnah über 100 Jahre Geschichte der Fotografie erleben. \n\n\n\nIn der Mittagspause im Foyer des Ernst-Leitz-Museums folgt ein Impulsvortrag zur Leica Camera AG und zum Jubiläumsjahr 2025. \n\n\n\nDer zweite Teil des Hausbesuchs führt uns dann ins Ernst Leitz Museum\, das im Jubiläumsjahr in der Ausstellung „Die Magie der Straße: Meisterwerke der Street Photography aus dem Leica Archiv“ – ein spannendes\, vielseitiges und immer wieder überraschendes Genre der Fotografie – präsentiert. Die Ausstellung ist ein Who’s Who der Fotografie-Geschichte mit großen Namen wie Henri Cartier-Bresson\, René Burri\, Elliott Erwitt oder Martine Franck\, um nur einige hervorzuheben. Wer Lust hat\, mit seinem Handy oder seiner Kamera zu experimentieren\, ist herzlich eingeladen\, an den Fotostationen im Museum die vielseitigen Facetten einer kreativen Bildgestaltung auszuprobieren. \n\n\n\nSie wollen ein Familienmitglied mitbringen? Schreiben Sie uns eine E-Mail! Kostenbeteiligung 25 Euro für Hin- und Rückfahrt mit einem Reisebus. Anreise per PKW auf eigene Faust (Parkplätze vorhanden) möglich. Für Kinder und Jugendliche von Mitgliedern bis einschließlich 18 Jahren ist die Teilnahme kostenlos. Eintritt und Mittagsimbiss sind auf Einladung von Leica inklusive. \n\n\n\nBitte beachten: Nach Ihrer Anmeldung erhalten Sie eine Zahlungsanweisung für die Kostenbeteiligung. Sobald Ihre Zahlung bei uns eingegangen ist\, erhalten Sie alle weiteren Details wie Treffpunkt\, genauen Ablauf etc. \n\n\n\nDie Veranstaltung ist exklusiv für unsere Mitglieder. Noch kein Mitglied? Dann ist jetzt die perfekte Gelegenheit\, Teil unseres großen Netzwerks zu werden. Hier geht es direkt zum Antrag. \n\n\n\n\n\nJohannes WinterFoto © Leica Camera AG\n\n\n\nOliver ClaasFoto © Leica Camera AG\n\n\n\n\n\nAnmeldung
URL:https://www.frankfurterpresseclub.de/veranstaltung/fpc-hausbesuch-bei-der-leica-camera-ag-in-der-leica-welt-100-jahre-leica-zeugin-eines-jahrhunderts/
LOCATION:Leica Welt\, Am Leitz-Park 6\, Wetzlar\, Hessen\, 35578\, Germany
CATEGORIES:Exklusiv für Mitglieder,FPC Hausbesuch
ATTACH;FMTTYPE=image/jpeg:https://www.frankfurterpresseclub.de/wp-content/uploads/2025/04/eventbrite-2.jpg
ORGANIZER;CN="Frankfurter Presseclub e.V":MAILTO:info@frankfurterpresseclub.de
END:VEVENT
BEGIN:VEVENT
DTSTART;TZID=Europe/Berlin:20250522T190000
DTEND;TZID=Europe/Berlin:20250522T210000
DTSTAMP:20260421T131515
CREATED:20250518T080500Z
LAST-MODIFIED:20250602T152514Z
UID:10000208-1747940400-1747947600@www.frankfurterpresseclub.de
SUMMARY:Wüstenradar: Vom Verschwinden der Lokalzeitung – Wie lassen sich Zeitungswüsten in Deutschland verhindern und eine Vielfalt im Lokaljournalismus fördern?
DESCRIPTION:DONNERSTAG | 22. MAI | 19.30 UHR | FPC\, ULMENSTR. 20\, 60325 FRANKFURTZU GAST● Axel Grysczyk (Chefredakteur HNA – Hessische/Niedersächsische Allgemeine)● Dr. Thomas Schnedler (Co-Geschäftsführer – Netzwerk Recherche)MODERATION● Michaela Schmehl (FPC Vorstandsmitglied)BEGRÜßUNG● Wolfgang Borgfeld (Kurator – m² MedienMittwoch Stiftung) \n\n\n\n\n\nDa es bisher kein systematisches Monitoring der Verbreitung von Lokalzeitungen in Deutschland gab\, haben Forscher:innen der Hamburg Media School in Kooperation mit Netzwerk Recherche und Transparency International Deutschland untersucht\, wie sich die Situation der Tageszeitungen seit der deutschen Wiedervereinigung verändert hat. \n\n\n\nAnlass war eine seit Jahren geführte Diskussion über drohende „Nachrichtenwüsten“ – also Regionen ohne täglich erscheinende Lokalpresse. „Wüstenradar“ schließt diese Lücke\, denn die Pionierstudie hat die Zahl der wirtschaftlich unabhängigen gedruckten lokalen Tageszeitungen auf Kreisebene von 1992 bis 2023 systematisch erfasst. Seit Ende 2024 liegen nun gesicherte Fakten für die medienpolitische Diskussion zur Zukunft des Lokaljournalismus auf dem Tisch. \n\n\n\nWir wollen an diesem Abend im FPC mit unseren Gästen auf dem Podium diskutieren\, wie sich ein fehlender Lokaljournalismus auf die Funktionsfähigkeit von Demokratie und Gemeinwesen auswirkt\, wenn es nur noch in jedem zweiten Landkreis eine eigenständige Tageszeitung gibt. \n\n\n\nBricht ohne die fundierte journalistische Berichterstattung vor Ort eine wichtige Säule der Demokratie weg? Und führt das Sterben der Lokalpresse gar zu einer stärkeren Polarisierung der Gesellschaft durch soziale Medien? Wie schwer hat es die investigative Recherche vor Ort\, wenn Zeit und Geld fehlen? Gibt es Förderinstrumente\, die eine journalistische Unabhängigkeit und Staatsferne garantieren? Und wieviel ist uns allen lokaler Journalismus in Deutschland heute noch wert? \n\n\n\nAxel Grysczyk hat nach dem Studium der Soziologie und Politikwissenschaften seine journalistische Laufbahn zunächst beim Kasseler Extra Tip begonnen. Im Anschluss war er sechs Jahre als Lokal- und Sportredakteur bei der Saarbrücker Zeitung beschäftigt\, bevor er 2007 zur Ippen-Gruppe wechselte. Dort war er zunächst beim Aufbau verschiedener Anzeigenzeitungen beteiligt und wurde später Chefredakteur der Offenbach Post sowie parallel Geschäftsführer beim Hanauer Anzeiger. Seit 2022 ist er Chefredakteur der Publikation Hessische/Niedersächsische Allgemeine HNA. \n\n\n\nDr. Thomas Schnedler ist Co-Geschäftsführer bei Netzwerk Recherche. Er leitet zudem das Greenhouse von Netzwerk Recherche\, ein Zentrum für gemeinnützigen Journalismus und Medienvielfalt. Nach seinem Studium der Diplom-Journalistik an der Universität Dortmund und einem Volontariat bei der Hessischen/Niedersächsischen Allgemeinen in Kassel hat er u. a. als Projektleiter am Institut für Medien- und Kommunikationspolitik (IfM) in Berlin\, als wissenschaftlicher Mitarbeiter der Rudolf-Augstein-Stiftungsprofessur für Praxis des Qualitätsjournalismus an der Universität Hamburg und als Projektleiter beim gemeinnützigen Recherchezentrum Correctiv in Berlin gearbeitet. Er ist als Dozent in der journalistischen Aus- und Fortbildung tätig und hat an der Universität Hamburg zu prekärer Arbeit im Journalismus promoviert. \n\n\n\nBitte beachten: Die Teilnahme an der Veranstaltung ist kostenlos. Eine Anmeldung ist erforderlich. \n\n\n\n\n\nIn Kooperation mit: \n\n\n\n\n\n\n\nAxel GrysczykFoto © Privat\n\n\n\nDr. Thomas SchnedlerFoto © Netzwerk Recherche\n\n\n\n\n\nAnmeldung
URL:https://www.frankfurterpresseclub.de/veranstaltung/wuestenradar-vom-verschwinden-der-lokalzeitung-wie-lassen-sich-zeitungswuesten-in-deutschland-verhindern-und-eine-vielfalt-im-lokaljournalismus-foerdern/
LOCATION:Frankfurter PresseClub e.V.\, Ulmenstraße 20\, Frankfurt am Main\, 60325\, Deutschland
CATEGORIES:Clubabend,Kooperation
ATTACH;FMTTYPE=image/jpeg:https://www.frankfurterpresseclub.de/wp-content/uploads/2025/05/eventbrite.jpg
ORGANIZER;CN="Frankfurter Presseclub e.V":MAILTO:info@frankfurterpresseclub.de
END:VEVENT
END:VCALENDAR