BEGIN:VCALENDAR
VERSION:2.0
PRODID:-//Frankfurter PresseClub e.V. - ECPv6.15.20//NONSGML v1.0//EN
CALSCALE:GREGORIAN
METHOD:PUBLISH
X-WR-CALNAME:Frankfurter PresseClub e.V.
X-ORIGINAL-URL:https://www.frankfurterpresseclub.de
X-WR-CALDESC:Veranstaltungen für Frankfurter PresseClub e.V.
REFRESH-INTERVAL;VALUE=DURATION:PT1H
X-Robots-Tag:noindex
X-PUBLISHED-TTL:PT1H
BEGIN:VTIMEZONE
TZID:Europe/Berlin
BEGIN:DAYLIGHT
TZOFFSETFROM:+0100
TZOFFSETTO:+0200
TZNAME:CEST
DTSTART:20210328T010000
END:DAYLIGHT
BEGIN:STANDARD
TZOFFSETFROM:+0200
TZOFFSETTO:+0100
TZNAME:CET
DTSTART:20211031T010000
END:STANDARD
BEGIN:DAYLIGHT
TZOFFSETFROM:+0100
TZOFFSETTO:+0200
TZNAME:CEST
DTSTART:20220327T010000
END:DAYLIGHT
BEGIN:STANDARD
TZOFFSETFROM:+0200
TZOFFSETTO:+0100
TZNAME:CET
DTSTART:20221030T010000
END:STANDARD
BEGIN:DAYLIGHT
TZOFFSETFROM:+0100
TZOFFSETTO:+0200
TZNAME:CEST
DTSTART:20230326T010000
END:DAYLIGHT
BEGIN:STANDARD
TZOFFSETFROM:+0200
TZOFFSETTO:+0100
TZNAME:CET
DTSTART:20231029T010000
END:STANDARD
END:VTIMEZONE
BEGIN:VEVENT
DTSTART;TZID=Europe/Berlin:20220429T000000
DTEND;TZID=Europe/Berlin:20221031T235959
DTSTAMP:20260420T143800
CREATED:20220404T173833Z
LAST-MODIFIED:20220722T112437Z
UID:10000076-1651190400-1667260799@www.frankfurterpresseclub.de
SUMMARY:"Zeichen der Zeit" – Fotoausstellung von Lucas Bäuml
DESCRIPTION:Fotoausstellung von Lucas Bäuml\, Redaktionsfotograf der F.A.Z.\n\n\n\n\n\nFRANKFURTER PRESSECLUB\, ULMENSTR. 20\, 60325 FRANKFURT \n\n\n\nBESICHTIGUNGSZEITEN \n\n\n\nDie Ausstellung ist nach Absprache während unserer Geschäftszeiten zu besichtigen. Bitte vereinbaren Sie über die Telefonnummer 069 288800 oder die E-Mail info@frankfurterpresseclub.de einen Termin mit uns. \n\n\n\n\n\nWir laden herzlich zur Ausstellung „Zeichen der Zeit“ ein. Im Frühjahr 2020 brachte die Corona-Pandemie das öffentliche Leben in Deutschland zum Stillstand. Seitdem dokumentieren Fotojournalisten den Alltag mit dem Virus. Die Bilder von Lucas Bäuml\, Redaktionsfotograf der Frankfurter Allgemeinen Zeitung\, halten fest\, wie die Pandemie nahezu alle Lebensbereiche durchdringt. Intensivstationen\, Zaungäste vor leeren Fußballstadien\, stillgelegte Flugzeuge – Motive aus verschiedensten Reportagen ermöglichen einen Rückblick und zeigen\, wie eine Gesellschaft mit dieser Herausforderung umgeht. \n\n\n\nLucas Bäuml\, geboren 1997 in Bremen und dort aufgewachsen. Nach dem Abitur studierte er Dokumentarfotografie und Fotojournalismus an der Hochschule Hannover. 2019 Hospitanz als Fotograf in der Bildredaktion der Frankfurter Allgemeinen Zeitung. Einem Praktikum bei der Deutschen Presse-Agentur in Hannover und freiberuflicher Tätigkeit als Fotojournalist folgte 2020 die Anstellung als Redaktionsfotograf der Frankfurter Allgemeinen Zeitung. \n\n\n\n\n\nLucas Bäuml\n\n\n\n\n\n\n\nEindrücke der Vernissage\n\n\n\n			\n	\n		\n					\n		\n			Zurück\n			1von11\n			Vor
URL:https://www.frankfurterpresseclub.de/veranstaltung/vernissage-zeichen-der-zeit-fotos-von-lucas-baeuml/
LOCATION:Frankfurter PresseClub e.V.\, Ulmenstraße 20\, Frankfurt am Main\, 60325\, Deutschland
CATEGORIES:Ausstellung
ATTACH;FMTTYPE=image/jpeg:https://www.frankfurterpresseclub.de/wp-content/uploads/2022/04/wordpress-1.jpg
ORGANIZER;CN="Frankfurter Presseclub e.V":MAILTO:info@frankfurterpresseclub.de
END:VEVENT
BEGIN:VEVENT
DTSTART;TZID=Europe/Berlin:20220621T193000
DTEND;TZID=Europe/Berlin:20220621T203000
DTSTAMP:20260420T143800
CREATED:20220601T191123Z
LAST-MODIFIED:20220622T132804Z
UID:10000080-1655839800-1655843400@www.frankfurterpresseclub.de
SUMMARY:Auslandsberichterstattung in der Krise
DESCRIPTION:Weiße Flecken auf der Landkarte der journalistischen Berichterstattung\n\n\n\n\n\n21 JUNI 2022 | 19.30 UHR | ONLINE BEI ZOOMZU GAST● Marc Engelhardt (Geschäftsführer des CrowdNewsroom Schweiz – CORRECTIV)MODERATION● Jana Sauer (Präsidentin des FPC) \n\n\n\n\n\nDer Fokus auf einige wenige Länder lässt große Teile der Welt faktisch unsichtbar werden. Zu diesem Ergebnis kommt ein Arbeitspapier der Otto-Brenner-Stiftung. Erschreckendes Fazit: Während über acht Staaten in den letzten Jahren insgesamt über 100.000 Berichte erschienen\, wurden 34 Staaten zusammen weniger als 50 Mal erwähnt. Über dieses Ungleichgewicht spricht der Studienautor und langjährige Auslandskorrespondent Marc Engelhardt im digitalen Clubabend. Ein Problem\, das dabei zur Sprache kommen wird: Die Zahl der Korrespondent*innen hat in den letzten Jahren ebenso wie die der Auslandsseiten und Sendeplätze – vor allem in Print- und Onlinemedien – abgenommen. Doch wo liegen mögliche Lösungsansätze? \n\n\n\nUnser Gast: \n\n\n\nMarc Engelhardt hat zwischen 2004 und 2021 als freier Auslandskorrespondent gearbeitet. Nach sieben Jahren in Afrika am Standort Nairobi berichtete er ab 2011 aus Genf über die Ereignisse bei den Vereinten Nationen. Seit Oktober 2021 ist er Geschäftsführer des CrowdNewsroom Schweiz\, eines Projekts des Recherchezentrums CORRECTIV. Der Kölner (Jahrgang 1971) hat in Kiel ein Studium der Geografie\, Meeresbiologie und Öffentlichem Recht abgeschlossen. Es folgten ein Volontariat beim Norddeutschen Rundfunk und mehrere Jahre bei der ARD Tagesschau. Er ist Autor und Herausgeber zahlreicher Bücher. Sein Buch „Weltgemeinschaft am Abgrund. Warum wir eine starke UNO brauchen“ wurde 2018 mit dem „Prix Nicolas Bouvier“ ausgezeichnet. \n\n\n\n\n\nIn Kooperation mit: \n\n\n\n\n\n\n\nMarc Engelhardt\n\n\n\nJana Sauer© Barbara Walzer\n\n\n\n\n\nAnmeldung
URL:https://www.frankfurterpresseclub.de/veranstaltung/auslandsberichterstattung-in-der-krise/
LOCATION:Online
CATEGORIES:Clubabend
ATTACH;FMTTYPE=image/jpeg:https://www.frankfurterpresseclub.de/wp-content/uploads/2022/06/wordpress.jpg
ORGANIZER;CN="Frankfurter Presseclub e.V":MAILTO:info@frankfurterpresseclub.de
END:VEVENT
END:VCALENDAR