BEGIN:VCALENDAR
VERSION:2.0
PRODID:-//Frankfurter PresseClub e.V. - ECPv6.15.20//NONSGML v1.0//EN
CALSCALE:GREGORIAN
METHOD:PUBLISH
X-WR-CALNAME:Frankfurter PresseClub e.V.
X-ORIGINAL-URL:https://www.frankfurterpresseclub.de
X-WR-CALDESC:Veranstaltungen für Frankfurter PresseClub e.V.
REFRESH-INTERVAL;VALUE=DURATION:PT1H
X-Robots-Tag:noindex
X-PUBLISHED-TTL:PT1H
BEGIN:VTIMEZONE
TZID:Europe/Berlin
BEGIN:DAYLIGHT
TZOFFSETFROM:+0100
TZOFFSETTO:+0200
TZNAME:CEST
DTSTART:20220327T010000
END:DAYLIGHT
BEGIN:STANDARD
TZOFFSETFROM:+0200
TZOFFSETTO:+0100
TZNAME:CET
DTSTART:20221030T010000
END:STANDARD
BEGIN:DAYLIGHT
TZOFFSETFROM:+0100
TZOFFSETTO:+0200
TZNAME:CEST
DTSTART:20230326T010000
END:DAYLIGHT
BEGIN:STANDARD
TZOFFSETFROM:+0200
TZOFFSETTO:+0100
TZNAME:CET
DTSTART:20231029T010000
END:STANDARD
BEGIN:DAYLIGHT
TZOFFSETFROM:+0100
TZOFFSETTO:+0200
TZNAME:CEST
DTSTART:20240331T010000
END:DAYLIGHT
BEGIN:STANDARD
TZOFFSETFROM:+0200
TZOFFSETTO:+0100
TZNAME:CET
DTSTART:20241027T010000
END:STANDARD
END:VTIMEZONE
BEGIN:VEVENT
DTSTART;TZID=Europe/Berlin:20230905T193000
DTEND;TZID=Europe/Berlin:20230905T210000
DTSTAMP:20260420T204607
CREATED:20230809T081500Z
LAST-MODIFIED:20230906T094448Z
UID:10000132-1693942200-1693947600@www.frankfurterpresseclub.de
SUMMARY:Klimajournalismus - zwischen Haltung und Hysterie: Journalistische Aufbereitung komplexer Themen / Kooperation FPC und DJV
DESCRIPTION:05. SEPTEMBER | 19.30 UHR | FRANKFURTER PRESSECLUB\, ULMENSTR. 20\, 60325 FRANKFURTZU GAST● Katrin Böhning-Gaese (Direktorin des Senckenberg Biodiversität und Klima Forschungszentrums)● Axel Weiss (Diplom-Biologe und Redakteur und Moderator beim SWR)MODERATION● Ina Knobloch (Wissenschaftsjournalistin und Vorsitzende des DJV-Frankfurt) \n\n\n\n\n\nJournalismus in Zeiten des Klimawandels\, ist eine wichtige Herausforderung für alle Medienhäuser. Noch vor wenigen Jahren gab es den Begriff „Klimajournalismus“ überhaupt nicht. Zum Thema berichteten Journalistinnen und Journalisten der Wissenschafts- und Umweltredaktionen. Sind Kolleginnen und Kollegen ohne wissenschaftlichen Hintergrund mit der Komplexität des Themas überfordert? Brauchen Verlage und Sender mehr Naturwissenschaftler in den Redaktionen oder einfach nur mehr Zeit zum Recherchieren? Gibt es einen Fachkräftemangel bei Wissenschafts- und Klimajournalisten oder fehlt es an finanzieller Ausstattung? Was sagt die Wissenschaft zur Klimakommunikation in den Medien und wie sehen es die Fachredaktionen? Darüber diskutiert Dr. Ina Knobloch\, Wissenschaftsjournalistin und Vorsitzende des DJV-Frankfurt mit Frau Prof. Katrin Böhning-Gaeese\, Leiterin des Biodiversität und Klima Forschungszentrum Senckenberg in Frankfurt und Axel Weiss\, Wissenschaftsjournalist und langjähriger SWR Umweltredakteur. \n\n\n\nKatrin Böhning-Gaese\, geboren 1964\, leitet das Senckenberg Biodiversität und Klima Forschungszentrum und ist Professorin an der Goethe-Universität Frankfurt. Sie erforscht seit 30 Jahren die Wechselwirkungen zwischen Mensch und Natur und die Bedeutung der Biodiversität. Für ihre Spitzenforschung und ihr Engagement im Bereich der Politik- und Gesellschaftsberatung wurde sie 2021 mit dem Umweltpreis der Deutschen Bundesstiftung Umwelt ausgezeichnet. \n\n\n\nAxel Weiss ist Diplom-Biologe\, Redakteur und Moderator. Er gehört beim Südwestrundfunk zur trimedialen Umweltredaktion. Weiss ist viel herumgekommen in der bedrohten Natur dieser Erde und arbeitet gerade deshalb noch immer begeistert als Autor. Der studierte Biologe leitet seit Jahren beim SWR die Fachredaktion für Umwelt- und Ernährung und seit kurzem gemeinsam mit dem HR die erste regelmäßige Klimasendung in der ARD\, KlimaZeit bei Tagesschau24. \n\n\n\nWir freuen uns auf einen interessanten Abend und auf Sie! \n\n\n\nFür Mitglieder des FPC und des DJV ist die Teilnahme kostenlos. Für Nichtmitglieder erheben wir einen Unkostenbeitrag von 9€. \n\n\n\nNoch kein Mitglied? Dann ist jetzt die Gelegenheit Teil unseres Netzwerks zu werden. Mitgliedsbeitrag nur 120€\, Studierende / Volontär*innen 30€ pro Jahr. Hier geht es direkt zum Antrag. \n\n\n\n\n\nIn Kooperation mit dem \n\n\n\n\n\n\n\nKatrin Böhning-GaeseFoto © Peter Kiefer\n\n\n\nAxel WeissFoto © Simon Zimbardo\n\n\n\n\n\nAnmeldung
URL:https://www.frankfurterpresseclub.de/veranstaltung/klimajournalismus-zwischen-haltung-und-hysterie-journalistische-aufbereitung-komplexer-themen-kooperation-fpc-und-djv/
LOCATION:Frankfurter PresseClub e.V.\, Ulmenstraße 20\, Frankfurt am Main\, 60325\, Deutschland
CATEGORIES:Clubabend
ATTACH;FMTTYPE=image/jpeg:https://www.frankfurterpresseclub.de/wp-content/uploads/2023/08/eventbrite.jpg
ORGANIZER;CN="Frankfurter Presseclub e.V":MAILTO:info@frankfurterpresseclub.de
END:VEVENT
END:VCALENDAR