BEGIN:VCALENDAR
VERSION:2.0
PRODID:-//Frankfurter PresseClub e.V. - ECPv6.15.20//NONSGML v1.0//EN
CALSCALE:GREGORIAN
METHOD:PUBLISH
X-ORIGINAL-URL:https://www.frankfurterpresseclub.de
X-WR-CALDESC:Veranstaltungen für Frankfurter PresseClub e.V.
REFRESH-INTERVAL;VALUE=DURATION:PT1H
X-Robots-Tag:noindex
X-PUBLISHED-TTL:PT1H
BEGIN:VTIMEZONE
TZID:Europe/Berlin
BEGIN:DAYLIGHT
TZOFFSETFROM:+0100
TZOFFSETTO:+0200
TZNAME:CEST
DTSTART:20220327T010000
END:DAYLIGHT
BEGIN:STANDARD
TZOFFSETFROM:+0200
TZOFFSETTO:+0100
TZNAME:CET
DTSTART:20221030T010000
END:STANDARD
BEGIN:DAYLIGHT
TZOFFSETFROM:+0100
TZOFFSETTO:+0200
TZNAME:CEST
DTSTART:20230326T010000
END:DAYLIGHT
BEGIN:STANDARD
TZOFFSETFROM:+0200
TZOFFSETTO:+0100
TZNAME:CET
DTSTART:20231029T010000
END:STANDARD
BEGIN:DAYLIGHT
TZOFFSETFROM:+0100
TZOFFSETTO:+0200
TZNAME:CEST
DTSTART:20240331T010000
END:DAYLIGHT
BEGIN:STANDARD
TZOFFSETFROM:+0200
TZOFFSETTO:+0100
TZNAME:CET
DTSTART:20241027T010000
END:STANDARD
END:VTIMEZONE
BEGIN:VEVENT
DTSTART;TZID=Europe/Berlin:20231206T193000
DTEND;TZID=Europe/Berlin:20231206T210000
DTSTAMP:20260421T114913
CREATED:20231109T153500Z
LAST-MODIFIED:20231207T114136Z
UID:10000143-1701891000-1701896400@www.frankfurterpresseclub.de
SUMMARY:K.I. im Bildjournalismus: Hilfreiches Tool oder Jobkiller? / Auswirkungen für die Fotografen
DESCRIPTION:06. DEZEMBER | 19.30 UHR | IM FPC\, ULMENSTR. 20\, 60325 FRANKFURT UND IM LIVESTREAMZU GAST● Henner Flohr (Leiter der Bildredaktion der Frankfurter Allgemeinen Zeitung)● Michael Gottschalk (Head of Content der Bildagentur Picture-Alliance)● Salome Roessler (freiberufliche Fotografin in Frankfurt und Vorstandsmitglied im Female Photoclub)● Bernd Seydel (freiberuflicher Fotograf in Gotha und Vorsitzender im Bundesfachausschuss Bild im Deutschen Journalisten-Verband)MODERATION● Karsten Frerichs (FPC Vorstandsmitglied) \n\n\n\n\n\nDie Möglichkeiten Künstlicher Intelligenz (KI) bei der Bildgenerierung scheinen nahezu grenzenlos. Das wirft Fragen auf: Welche KI-Anwendungen sind hilfreich und unbedenklich\, welche sind medienethisch abzulehnen? Wie sind Bildmanipulationen überhaupt zu verhindern? Welche Auswirkungen ergeben sich für Fotografinnen und Fotografen? Wie verändert KI das Geschäft der Bildagenturen? Was bedeutet das alles für die Arbeit einer Bildredaktion? Unser Clubabend soll die Auswirkungen Künstlicher Intelligenz auf den Bildjournalismus aus verschiedenen Blickwinkeln beleuchten. \n\n\n\nBitte beachten: Für Mitglieder des FPC ist die Veranstaltung kostenlos. Für Nicht-Mitglieder erheben wir einen Unkostenbeitrag von 9€ (in Präsenz) bzw. 7€ (online). Bitte wählen Sie bei der Anmeldung das entsprechende Ticket. \n\n\n\nNoch kein Mitglied? Dann ist jetzt die Gelegenheit Teil unseres Netzwerks zu werden. Hier geht es direkt zum Antrag. \n\n\n\n\n\nHenner FlohrFoto © Helmut Fricke / F.A.Z.\n\n\n\nMichael GottschalkFoto © Picture-Alliance\n\n\n\nSalome RoesslerFoto © Boris Roessler\n\n\n\nBernd Seydel\n\n\n\n\n\nAnmeldung
URL:https://www.frankfurterpresseclub.de/veranstaltung/k-i-im-bildjournalismus-hilfreiches-tool-oder-jobkiller-auswirkungen-fuer-die-fotografen/
LOCATION:Frankfurter PresseClub e.V.\, Ulmenstraße 20\, Frankfurt am Main\, 60325\, Deutschland
CATEGORIES:Clubabend
ATTACH;FMTTYPE=image/jpeg:https://www.frankfurterpresseclub.de/wp-content/uploads/2023/11/eventbrite-1.jpg
ORGANIZER;CN="Frankfurter Presseclub e.V":MAILTO:info@frankfurterpresseclub.de
END:VEVENT
END:VCALENDAR