BEGIN:VCALENDAR
VERSION:2.0
PRODID:-//Frankfurter PresseClub e.V. - ECPv6.15.20//NONSGML v1.0//EN
CALSCALE:GREGORIAN
METHOD:PUBLISH
X-ORIGINAL-URL:https://www.frankfurterpresseclub.de
X-WR-CALDESC:Veranstaltungen für Frankfurter PresseClub e.V.
REFRESH-INTERVAL;VALUE=DURATION:PT1H
X-Robots-Tag:noindex
X-PUBLISHED-TTL:PT1H
BEGIN:VTIMEZONE
TZID:Europe/Berlin
BEGIN:DAYLIGHT
TZOFFSETFROM:+0100
TZOFFSETTO:+0200
TZNAME:CEST
DTSTART:20230326T010000
END:DAYLIGHT
BEGIN:STANDARD
TZOFFSETFROM:+0200
TZOFFSETTO:+0100
TZNAME:CET
DTSTART:20231029T010000
END:STANDARD
BEGIN:DAYLIGHT
TZOFFSETFROM:+0100
TZOFFSETTO:+0200
TZNAME:CEST
DTSTART:20240331T010000
END:DAYLIGHT
BEGIN:STANDARD
TZOFFSETFROM:+0200
TZOFFSETTO:+0100
TZNAME:CET
DTSTART:20241027T010000
END:STANDARD
BEGIN:DAYLIGHT
TZOFFSETFROM:+0100
TZOFFSETTO:+0200
TZNAME:CEST
DTSTART:20250330T010000
END:DAYLIGHT
BEGIN:STANDARD
TZOFFSETFROM:+0200
TZOFFSETTO:+0100
TZNAME:CET
DTSTART:20251026T010000
END:STANDARD
END:VTIMEZONE
BEGIN:VEVENT
DTSTART;TZID=Europe/Berlin:20240117T193000
DTEND;TZID=Europe/Berlin:20240117T210000
DTSTAMP:20260423T104048
CREATED:20231219T090500Z
LAST-MODIFIED:20240118T132648Z
UID:10000145-1705519800-1705525200@www.frankfurterpresseclub.de
SUMMARY:Afghanistan nach dem Sieg der Taliban – Spiegel-Korrespondent Christoph Reuter zu Gast
DESCRIPTION:17. JANUAR | 19.30 UHR | FRANKFURTER PRESSECLUB\, ULMENSTR. 20\, 60325 FRANKFURT UND ALS LIVESTREAM BEI YOUTUBEZU GAST● Christoph Reuter (Journalist\, Kriegsberichterstatter und Autor – Der Spiegel)MODERATION● Bernd Ludermann (Chefredakteur von „welt-sichten – Magazin für globale Entwicklung und ökumenische Zusammenarbeit“) \n\n\n\n\n\n„Um mich herum saß die Zukunft eines Landes\, die es gerade in einer Frachtmaschine verließ.“ Mit diesen Worten beschreibt der Spiegel-Korrespondent Christoph Reuter in seinem neuen Buch die Lage in Afghanistan im Sommer 2021 – nach dem für viele unvorhergesehenen Blitzsieg der Taliban\, dem eine fast panische Flucht vieler Menschen aus dem Land folgte. Eine Woche nach seiner überraschenden Ausweisung in einer C-17 der US-Luftwaffe ist er bereits wieder zurück. Über mehrere Monate durchquert er dann zwei Drittel der Provinzen\, gibt den Menschen jenseits der Großstädte eine Stimme\, wird ein Dutzend Mal von den Taliban festgesetzt\, aber ebenso oft freundlich bewirtet\, beobachtet Güte wie Gier. Seit nunmehr zwanzig Jahren berichtet der studierte und fließend arabisch sprechende Islamwissenschaftler aus Afghanistan. Kaum ein anderer Reporter kennt das Land so gut wie er. Im Gespräch mit Bernd Ludermann wird Reuter über Begegnungen und Beobachtungen aus dieser Zeit berichten. Anschließend gibt es einen kleinen Empfang. \n\n\n\nChristoph Reuter\, geboren 1968\, gehört regelmäßig zu den letzten westlichen Journalisten\, die aus den Krisenregionen der arabischen Welt berichten. Für seine Arbeit wurde er mehrfach ausgezeichnet\, 2022 für seine Berichterstattung aus dem Ukrainekrieg mit dem Hanns-Joachim-Friedrichs-Preis für Fernsehjournalismus. \n\n\n\nBernd Ludermann ist seit 2008 Chefredakteur von „welt-sichten“\, einem Magazin über Entwicklungsländer und globale Fragen. Zuvor war er nach einem Studium der Geschichte\, Politikwissenschaft und Sinologie seit 1990 als Fachjournalist für Entwicklungsfragen tätig – zunächst neun Jahre als Redakteur bei der Quartalszeitschrift „der überblick“ in Hamburg\, dann von 2002 bis Ende 2007 freiberuflich. Er beschäftigt sich besonders mit Afrika\, Bürgerkriegen und Klimapolitik. \n\n\n\nBitte beachten: Die Teilnahme an der Veranstaltung ist kostenlos. Für die Teilnahme in Präsenz ist eine Anmeldung erforderlich. Hier geht es zur Anmeldung über die Seite der Friedrich-Naumann-Stiftung. \n\n\n\nFalls Sie die Veranstaltung online mitverfolgen möchten\, geht es hier zum Livestream. \n\n\n\n\n\nChristoph ReuterFoto: www.stephan-roehl.de\n\n\n\nBernd Ludermann
URL:https://www.frankfurterpresseclub.de/veranstaltung/afghanistan-nach-dem-sieg-der-taliban-spiegel-korrespondent-christoph-reuter-zu-gast/
LOCATION:Frankfurter PresseClub e.V.\, Ulmenstraße 20\, Frankfurt am Main\, 60325\, Deutschland
CATEGORIES:Clubabend
ATTACH;FMTTYPE=image/jpeg:https://www.frankfurterpresseclub.de/wp-content/uploads/2023/11/eventbrite-4.jpg
END:VEVENT
END:VCALENDAR