BEGIN:VCALENDAR
VERSION:2.0
PRODID:-//Frankfurter PresseClub e.V. - ECPv6.15.20//NONSGML v1.0//EN
CALSCALE:GREGORIAN
METHOD:PUBLISH
X-WR-CALNAME:Frankfurter PresseClub e.V.
X-ORIGINAL-URL:https://www.frankfurterpresseclub.de
X-WR-CALDESC:Veranstaltungen für Frankfurter PresseClub e.V.
REFRESH-INTERVAL;VALUE=DURATION:PT1H
X-Robots-Tag:noindex
X-PUBLISHED-TTL:PT1H
BEGIN:VTIMEZONE
TZID:Europe/Berlin
BEGIN:DAYLIGHT
TZOFFSETFROM:+0100
TZOFFSETTO:+0200
TZNAME:CEST
DTSTART:20210328T010000
END:DAYLIGHT
BEGIN:STANDARD
TZOFFSETFROM:+0200
TZOFFSETTO:+0100
TZNAME:CET
DTSTART:20211031T010000
END:STANDARD
BEGIN:DAYLIGHT
TZOFFSETFROM:+0100
TZOFFSETTO:+0200
TZNAME:CEST
DTSTART:20220327T010000
END:DAYLIGHT
BEGIN:STANDARD
TZOFFSETFROM:+0200
TZOFFSETTO:+0100
TZNAME:CET
DTSTART:20221030T010000
END:STANDARD
BEGIN:DAYLIGHT
TZOFFSETFROM:+0100
TZOFFSETTO:+0200
TZNAME:CEST
DTSTART:20230326T010000
END:DAYLIGHT
BEGIN:STANDARD
TZOFFSETFROM:+0200
TZOFFSETTO:+0100
TZNAME:CET
DTSTART:20231029T010000
END:STANDARD
BEGIN:DAYLIGHT
TZOFFSETFROM:+0100
TZOFFSETTO:+0200
TZNAME:CEST
DTSTART:20240331T010000
END:DAYLIGHT
BEGIN:STANDARD
TZOFFSETFROM:+0200
TZOFFSETTO:+0100
TZNAME:CET
DTSTART:20241027T010000
END:STANDARD
BEGIN:DAYLIGHT
TZOFFSETFROM:+0100
TZOFFSETTO:+0200
TZNAME:CEST
DTSTART:20250330T010000
END:DAYLIGHT
BEGIN:STANDARD
TZOFFSETFROM:+0200
TZOFFSETTO:+0100
TZNAME:CET
DTSTART:20251026T010000
END:STANDARD
END:VTIMEZONE
BEGIN:VEVENT
DTSTART;TZID=Europe/Berlin:20241218T190000
DTEND;TZID=Europe/Berlin:20241218T210000
DTSTAMP:20260421T110316
CREATED:20241129T090000Z
LAST-MODIFIED:20241219T101115Z
UID:10000191-1734548400-1734555600@www.frankfurterpresseclub.de
SUMMARY:"Medienkompetenz mit musikalischer Begleitung" - Gemeinsame Weihnachtsveranstaltung von DJV\, FPC und Evangelischer Akademie
DESCRIPTION:MITTWOCH | 18. DEZEMBER 2024 | 19 UHR | EVANGELISCHE AKADEMIE\, RÖMERBERG 9\, 60311 FRANKFURTZU GAST● Stefan Ruh und Jörg Royer (Musikalisches Duo „Frankfurter Zweierlei“)● Thomas Nettelmann (Redaktionsleiter Landespolitik – SWR Mainz\, Gründungsmitglied von Journalismus macht Schule)MODERATION● Dr. Ina Knobloch (Journalistin\, Autorin und Filmproduzentin) \n\n\n\n\n\nWie können seriöse Medien und eine fundierte\, gut recherchierte Berichterstattung junge Menschen besser erreichen? Und wie kann man sie vor Fake News und Propaganda in Sozialen Medien schützen? Im Mittelpunkt der diesjährigen Weihnachtsveranstaltung von DJV\, FPC und Evangelischer Akademie steht dieses Jahr das Thema Medienkompetenz. Da Zensur der Redefreiheit widerspricht\, stellt sich die Frage nach dem richtigen Weg. Was also können Journalistinnen und Journalisten tun? Wie sind die öffentlich-rechtlichen Medien beim Thema Bildung gefordert? Und wo stehen Schulen beim Thema Medienkompetenz von Jugendlichen heute? \n\n\n\nStefan Ruh und Jörg Royer von der Käthe-Kollwitz-Schule in Zeilsheim hat der Beruf und die Liebe zur Musik zusammengebracht. Die beiden Lehrer\, die musikalisch als Duo „Frankfurter Zweierlei“ http://www.frankfurter-zweierlei.de/ unterwegs sind\, skizzieren ihr Engagement um mehr Medienkompetenz an Schulen. Im Anschluss werden die beiden eine musikalische Kostprobe mit journalistischem Bezug – von Voltaire bis Stoltze\, Frankfurter Dichter und Denker\, musikalisch erheiternd und nachdenklich – sowie eigens für die Veranstaltung gedichtete Lieder geben. \n\n\n\nThomas Nettelmann ist Gründungsmitglied von Journalismus macht Schule und Mitglied des erweiterten Vorstands. Seit drei Jahren in Schulen unterwegs (in Rheinland-Pfalz) zum Thema Nachrichten- und Informationskompetenz\, Schwerpunkt Desinformation. Das aktuelle Programm heißt: Der nächste Klick könnte eine Lüge sein! Seit 1998 beim SWR\, 20 Jahre in der Hörfunknachrichtenredaktion in Mainz\, aktuell Redaktionsleiter Landespolitik Rheinland-Pfalz. \n\n\n\nModeriert wird die Veranstaltung von Dr. Ina Knobloch\, der Vorsitzenden des Frankfurter Ortsverbands des DJV Hessen. \n\n\n\nIm Anschluss bleibt Zeit für Diskussion und Austausch beim gemütlichen „Get-together“ mit Weck und Wein. \n\n\n\n \n\n\n\nBitte beachten:  Für Mitglieder des FPC\, des DJV und der Evangelischen Akademie ist die Teilnahme an der Veranstaltung ist kostenlos. Sollten Sie sich bereits über den DJV oder die Evangelische Akademie angemeldet haben\, ist eine erneute Anmeldung hier nicht nötig. \n\n\n\nFür Nicht-Mitglieder erheben wir einen Unkostenbeitrag von 9€. \n\n\n\nNoch kein Mitglied? Dann ist jetzt die Gelegenheit Teil unseres Netzwerks zu werden. Jetzt Mitglied werden und erst 2025 Beitrag zahlen. Hier geht es direkt zum Antrag. \n\n\n\n\n\nThomas Nettelmann\n\n\n\nDr. Ina Knobloch\n\n\n\n\n\nAnmeldung
URL:https://www.frankfurterpresseclub.de/veranstaltung/medienkompetenz-mit-musikalischer-begleitung-gemeinsame-weihnachtsveranstaltung-von-djv-fpc-und-evangelischer-akademie/
LOCATION:Evangelische Akademie Frankfurt\, Römerberg 9\, Frankfurt am Main\, 60311\, Deutschland
CATEGORIES:Clubabend,Kooperation
ATTACH;FMTTYPE=image/jpeg:https://www.frankfurterpresseclub.de/wp-content/uploads/2024/11/eventbrite-4.jpg
END:VEVENT
BEGIN:VEVENT
DTSTART;TZID=Europe/Berlin:20231218T193000
DTEND;TZID=Europe/Berlin:20231218T210000
DTSTAMP:20260421T110316
CREATED:20231129T091000Z
LAST-MODIFIED:20240104T101322Z
UID:10000144-1702927800-1702933200@www.frankfurterpresseclub.de
SUMMARY:Journalismus zwischen Vision und Wirklichkeit – Gespräch und magische Momente mit Michelle Spillner
DESCRIPTION:18. DEZEMBER | 19.30 UHR | EVANGELISCHE AKADEMIE\, RÖMERBERG 9\, 60311 FRANKFURTZU GAST● Michelle Spillner (Wort- und Bildjournalistin und Zauberin)MODERATION● Ina Knobloch (Wissenschaftsjournalistin und Vorsitzende des DJV Ortsverbandes Frankfurt) \n\n\n\n\n\nWo gibt es Parallelen\, Grenzen und Überschreitungen\, zwischen Journalismus und „Zaubern“? Welche „magischen“ Momente braucht journalistischer Content\, um Leser/Hörer/Zuschauer zu fesseln und für eine Geschichte zu begeistern. Diesen Fragen gehen Moderatorin Ina Knobloch und unser Gast\, die Journalistin und Zauberin Michelle Spillner\, auf der vorweihnachtlichen Veranstaltung nach\, zu der der DJV-Frankfurt\, die Evangelische Akademie und der FPC gemeinsam einladen. Im Anschluss an das Gespräch wird Michelle Spillner die Magie der Illusion präsentieren und die Gäste mit ihrer Zauberkunst verführen. \n\n\n\nMichelle Spillner ist freie Wort- und Bildjournalistin\, arbeitet für die Frankfurter Neue Presse\, als Buchautorin und Fotografin\, leitet Europas größtes Fachmagazin für Zauberkunst\, und sie steht als Zauberkünstlerin und Kabarettistin auf unterschiedlichsten Bühnen\, vom Grüne-Soße-Festival über „Unterhaus Mainz“ bis zum Kunden-Incentiv in Lissabon. Letztlich geht es bei all diesen Gewerken immer um dasselbe: Geschichten zu erzählen. \n\n\n\nWir freuen uns auf einen interessanten Abend und auf Sie! \n\n\n\nFür Mitglieder des FPC und des DJV ist die Teilnahme kostenlos. Für Nichtmitglieder erheben wir einen Unkostenbeitrag von 9€. \n\n\n\nNoch kein Mitglied? Dann ist jetzt die Gelegenheit Teil unseres Netzwerks zu werden. Hier geht es direkt zum Antrag. \n\n\n\n\n\nIn Kooperation mit dem \n\n\n\n\n\n\n\n\n\n\n\nMichelle SpillnerFoto © Gerd Sycha\n\n\n\n\n\nAnmeldung
URL:https://www.frankfurterpresseclub.de/veranstaltung/journalismus-zwischen-vision-und-wirklichkeit-gespraech-und-magische-momente-mit-michelle-spillner/
LOCATION:Evangelische Akademie Frankfurt\, Römerberg 9\, Frankfurt am Main\, 60311\, Deutschland
CATEGORIES:Clubabend
ATTACH;FMTTYPE=image/jpeg:https://www.frankfurterpresseclub.de/wp-content/uploads/2023/11/eventbrite-2.jpg
ORGANIZER;CN="Frankfurter Presseclub e.V":MAILTO:info@frankfurterpresseclub.de
END:VEVENT
BEGIN:VEVENT
DTSTART;TZID=Europe/Berlin:20221213T183000
DTEND;TZID=Europe/Berlin:20221213T203000
DTSTAMP:20260421T110316
CREATED:20221120T172903Z
LAST-MODIFIED:20230116T093843Z
UID:10000105-1670956200-1670963400@www.frankfurterpresseclub.de
SUMMARY:Satire und Journalismus – Pit Knorr und Gerhard Kromschröder / Kurzfilm "Erna der Baum nadelt" von Ina Knobloch
DESCRIPTION:Gemeinsamer Jahresausklang des DJV Ortsverbandes-Frankfurt\, der Evangelischen Akademie Frankfurt und des Frankfurter Presseclubs. \n\n\n\n\n\n+++ Exklusiv für Mitglieder +++\n\n\n\n13. DEZEMBER | 18.30 UHR | IN PRÄSENZ IN DER EVANGELISCHEN AKADEMIE\, RÖMERBERG 9\, 60311 FRANKFURTZU GAST● Pit Knorr (freier Autor und Mitgründer der „Titanic“)● Gerhard Kromschröder (Journalist\, Fotograf\, Dozent und Kurator)MODERATION● Dr. Ina Knobloch (Vorsitzende des DJV Ortsverbandes-Frankfurt\, preisgekrönte Dokumentarfilmerin und Bestsellerautorin) \n\n\n\n\n\n„Erna\, der Baum nadelt!“ ist ein legendäres und in viele deutsche Dialekte\, einschließlich schwäbisch\, bayerisch und sächsisch übersetztes Stück von Robert Gernhardt\, Pit Knorr und Bernd Eilert. Ina Knobloch hat diesen Klassiker mit Unterstützung der Hessischen Filmförderung/HessenFilm erstmals filmisch umgesetzt. In den Hauptrollen Sabine Fischmann\, Michael Quast\, Anke Sevenich und mit der Musik von Ali Neander. Die Gäste des Abends erleben eine exklusive Vorpremiere dieses Films. Anschließend diskutieren Pit Knorr und Gerhard Kromschröder unter der Moderation von Ina Knobloch über das Thema: Komische Kunst und Satire in Frankfurt\, ein Rückblick. \n\n\n\nUnsere Gäste: \n\n\n\nPit Knorr\, Mitautor des Sketchs\, den er mit seinen Kollegen der Neuen Frankfurter Schule vor etwa 50 Jahren für den Hessischen Rundfunk geschrieben hat. Als Mitglied der 1974 entstandenen GEK-Gruppe (kurz für Gernhardt – Eilert – Knorr) hat er zusammen mit seinen Kollegen texte für Otto Waalkes\, sowoie für Radio- und Fernsehcomedyserien verfasst. Ist Mitgründer und langjähriger Herausgeber der Satirezeitschrift Titanic. Seit über 50 Jahren ist er Mitglied des djv. Knorr lebt in Frankfurt und ist als freier Autor tätig. \n\n\n\nGerhard Kromschröder\, 1941 in Frankfurt am Main geboren\, war u.a. zwölf Jahre bei der satirischen Zeitschrift „Pardon“ in Frankfurt\, zuletzt als stellvertretender Chefredakteur\, bevor er als Reporter zum „Stern“ ging. War Nahost-Korrespondent des Hamburger Magazins mit Wohnsitz in Kairo und Kriegsreporter. Unterrichtete Journalismus an der Universität Wien und veröffentlichte zahlreiche Bücher und Fotobände. Aktuell ist er Kurator der Ausstellung „Teuflische Jahre: PARDON\, die deutsche satirische Monatsschrift 1962-1982“ im Frankfurter Caricatura-Museum. Lebt als Journalist und Fotograf in Hamburg. \n\n\n\nBitte beachten: Die Veranstaltung ist exklusiv für Mitglieder des Frankfurter Presseclubs. Eine Anmeldung ist erforderlich. Bitte melden Sie sich bis spätestens 12.12. zu der Veranstaltung an. \n\n\n\nNoch kein Mitglied? Dann ist jetzt die Gelegenheit Teil unseres Netzwerks zu werden. Für das laufende Jahr beträgt der Mitgliedsbeitrag nur 60€ (danach 120€\, Studierende / Volontär*innen 30€ pro Jahr). Hier geht es direkt zum Antrag. \n\n\n\nWir freuen uns auf einen interessanten Abend und auf Sie! \n\n\n\n\n\nPit Knorr\n\n\n\nGerhard KromschröderFoto © Thomas Hegenbart\n\n\n\n\n\nAnmeldung
URL:https://www.frankfurterpresseclub.de/veranstaltung/satire-und-journalismus-pit-knorr-und-gerhard-kromschroeder-kurzfilm-erna-der-baum-nadeltvon-ina-knobloch/
LOCATION:Evangelische Akademie Frankfurt\, Römerberg 9\, Frankfurt am Main\, 60311\, Deutschland
CATEGORIES:Clubabend
ATTACH;FMTTYPE=image/jpeg:https://www.frankfurterpresseclub.de/wp-content/uploads/2022/11/eventbrite-2.jpg
ORGANIZER;CN="Frankfurter Presseclub e.V":MAILTO:info@frankfurterpresseclub.de
END:VEVENT
END:VCALENDAR